BEGIN:VCALENDAR
VERSION:2.0
PRODID:-//Tallahassee Symphony Orchestra - ECPv6.15.20//NONSGML v1.0//EN
CALSCALE:GREGORIAN
METHOD:PUBLISH
X-WR-CALNAME:Tallahassee Symphony Orchestra
X-ORIGINAL-URL:https://www.tallahasseesymphony.org
X-WR-CALDESC:Events for Tallahassee Symphony Orchestra
REFRESH-INTERVAL;VALUE=DURATION:PT1H
X-Robots-Tag:noindex
X-PUBLISHED-TTL:PT1H
BEGIN:VTIMEZONE
TZID:America/New_York
BEGIN:DAYLIGHT
TZOFFSETFROM:-0500
TZOFFSETTO:-0400
TZNAME:EDT
DTSTART:20240310T070000
END:DAYLIGHT
BEGIN:STANDARD
TZOFFSETFROM:-0400
TZOFFSETTO:-0500
TZNAME:EST
DTSTART:20241103T060000
END:STANDARD
BEGIN:DAYLIGHT
TZOFFSETFROM:-0500
TZOFFSETTO:-0400
TZNAME:EDT
DTSTART:20250309T070000
END:DAYLIGHT
BEGIN:STANDARD
TZOFFSETFROM:-0400
TZOFFSETTO:-0500
TZNAME:EST
DTSTART:20251102T060000
END:STANDARD
BEGIN:DAYLIGHT
TZOFFSETFROM:-0500
TZOFFSETTO:-0400
TZNAME:EDT
DTSTART:20260308T070000
END:DAYLIGHT
BEGIN:STANDARD
TZOFFSETFROM:-0400
TZOFFSETTO:-0500
TZNAME:EST
DTSTART:20261101T060000
END:STANDARD
END:VTIMEZONE
BEGIN:VEVENT
DTSTART;TZID=America/New_York:20250329T193000
DTEND;TZID=America/New_York:20250329T213000
DTSTAMP:20260423T071359
CREATED:20240528T183314Z
LAST-MODIFIED:20240905T180720Z
UID:10000069-1743276600-1743283800@www.tallahasseesymphony.org
SUMMARY:Nostalgia and Nature
DESCRIPTION:Meet the Maestro!\n \nProgram Notes
URL:https://www.tallahasseesymphony.org/event/nostalgia-and-nature/
LOCATION:Ruby Diamond\, 222 S Copeland St\, Tallahassee\, FL\, 32304\, United States
ATTACH;FMTTYPE=image/png:https://www.tallahasseesymphony.org/wp-content/uploads/2024/05/4-1.png
ORGANIZER;CN="TSO":MAILTO:patronservices@tallahasseesymphony.org
END:VEVENT
END:VCALENDAR